BEGIN:VCALENDAR
VERSION:2.0
PRODID:-//RCCG - ECPv6.15.20//NONSGML v1.0//EN
CALSCALE:GREGORIAN
METHOD:PUBLISH
X-WR-CALNAME:RCCG
X-ORIGINAL-URL:https://rccgnewsongberlin.org
X-WR-CALDESC:Events for RCCG
REFRESH-INTERVAL;VALUE=DURATION:PT1H
X-Robots-Tag:noindex
X-PUBLISHED-TTL:PT1H
BEGIN:VTIMEZONE
TZID:UTC
BEGIN:STANDARD
TZOFFSETFROM:+0000
TZOFFSETTO:+0000
TZNAME:UTC
DTSTART:20170101T000000
END:STANDARD
END:VTIMEZONE
BEGIN:VEVENT
DTSTART;TZID=UTC:20190415T080000
DTEND;TZID=UTC:20190420T170000
DTSTAMP:20260420T032618
CREATED:20190309T125217Z
LAST-MODIFIED:20190309T125217Z
UID:9946-1555315200-1555779600@rccgnewsongberlin.org
SUMMARY:Hero Convention
DESCRIPTION:The Hero Convention comes up this April with our Father in heaven. Be There
URL:https://rccgnewsongberlin.org/event/hero-convention/
END:VEVENT
BEGIN:VEVENT
DTSTART;TZID=UTC:20180907T190000
DTEND;TZID=UTC:20181026T050000
DTSTAMP:20260420T032618
CREATED:20180720T213422Z
LAST-MODIFIED:20180720T214051Z
UID:9328-1536346800-1540530000@rccgnewsongberlin.org
SUMMARY:Monthly Holy-Ghost Service
DESCRIPTION:
URL:https://rccgnewsongberlin.org/event/monthly-holy-ghost-service/
LOCATION:RCCG Redemption Camp\, Km 46 Lagos Ibadan Expressway\, Lagos\, Lagos\, Nigeria
CATEGORIES:RCCG Global Event
ORGANIZER;CN="Redeemed Christian Church of God":MAILTO:info@rccg.org
END:VEVENT
BEGIN:VEVENT
DTSTART;VALUE=DATE:20180806
DTEND;VALUE=DATE:20180813
DTSTAMP:20260420T032618
CREATED:20180720T213216Z
LAST-MODIFIED:20180720T214105Z
UID:9326-1533513600-1534118399@rccgnewsongberlin.org
SUMMARY:Annual Convention
DESCRIPTION:
URL:https://rccgnewsongberlin.org/event/annual-convention/
LOCATION:RCCG Redemption Camp\, Km 46 Lagos Ibadan Expressway\, Lagos\, Lagos\, Nigeria
CATEGORIES:RCCG Global Event
ORGANIZER;CN="Redeemed Christian Church of God":MAILTO:info@rccg.org
END:VEVENT
BEGIN:VEVENT
DTSTART;TZID=UTC:20180805T120000
DTEND;TZID=UTC:20180821T150000
DTSTAMP:20260420T032618
CREATED:20180720T212922Z
LAST-MODIFIED:20180720T212922Z
UID:9324-1533470400-1534863600@rccgnewsongberlin.org
SUMMARY:Thanksgiving Service
DESCRIPTION:
URL:https://rccgnewsongberlin.org/event/thanksgiving-service/
LOCATION:R.C.C.G New Song Parish\, Gotthardstrasse 11\, 13407\, Berlin-Reinekindorf\, Germany\, Berlin\, Berlin\, Germany
CATEGORIES:Service
END:VEVENT
BEGIN:VEVENT
DTSTART;TZID=UTC:20180722T123000
DTEND;TZID=UTC:20180722T150000
DTSTAMP:20260420T032618
CREATED:20180720T212648Z
LAST-MODIFIED:20180720T212648Z
UID:9320-1532262600-1532271600@rccgnewsongberlin.org
SUMMARY:Sunday Service
DESCRIPTION:
URL:https://rccgnewsongberlin.org/event/sunday-service/
LOCATION:R.C.C.G New Song Parish\, Gotthardstrasse 11\, 13407\, Berlin-Reinekindorf\, Germany\, Berlin\, Berlin\, Germany
CATEGORIES:Service
END:VEVENT
END:VCALENDAR